BEGIN:VCALENDAR
VERSION:2.0
PRODID:-//Maryborough Clay Target Club QLD - ECPv4.9.9//NONSGML v1.0//EN
CALSCALE:GREGORIAN
METHOD:PUBLISH
X-WR-CALNAME:Maryborough Clay Target Club QLD
X-ORIGINAL-URL:http://mctc.org.au
X-WR-CALDESC:Events for Maryborough Clay Target Club QLD
BEGIN:VTIMEZONE
TZID:UTC
BEGIN:STANDARD
TZOFFSETFROM:+0000
TZOFFSETTO:+0000
TZNAME:UTC
DTSTART:20200101T000000
END:STANDARD
END:VTIMEZONE
BEGIN:VEVENT
DTSTART;TZID=UTC:20200229T130000
DTEND;TZID=UTC:20200229T160000
DTSTAMP:20200228T072625
CREATED:20181111T200210Z
LAST-MODIFIED:20200127T010611Z
UID:694-1582981200-1582992000@mctc.org.au
SUMMARY:Come & Try Day
DESCRIPTION: \n
URL:http://mctc.org.au/index.php/event/come-try-day/
LOCATION:Maryborough Clay Target Club\, Baumgart Road\, Maryborough\, QLD\, 4650\, Australia
ORGANIZER;CN="Ross%20Anderson":MAILTO:info@mctc.org.au
END:VEVENT
BEGIN:VEVENT
DTSTART;TZID=UTC:20200229T130000
DTEND;TZID=UTC:20200229T160000
DTSTAMP:20200228T072625
CREATED:20200116T221155Z
LAST-MODIFIED:20200116T221155Z
UID:1017-1582981200-1582992000@mctc.org.au
SUMMARY:Trap & 5 Stand Sporting Practice
DESCRIPTION:
URL:http://mctc.org.au/index.php/event/trap-5-stand-sporting-practice-10/
LOCATION:Maryborough Clay Target Club\, Baumgart Road\, Maryborough\, QLD\, 4650\, Australia
END:VEVENT
BEGIN:VEVENT
DTSTART;TZID=UTC:20200307T130000
DTEND;TZID=UTC:20200307T160000
DTSTAMP:20200228T072625
CREATED:20200121T215535Z
LAST-MODIFIED:20200121T215535Z
UID:1033-1583586000-1583596800@mctc.org.au
SUMMARY:Trap and 5 Stand Sporting Practice
DESCRIPTION:
URL:http://mctc.org.au/index.php/event/trap-and-5-stand-sporting-practice-30/
LOCATION:Maryborough Clay Target Club\, Baumgart Road\, Maryborough\, QLD\, 4650\, Australia
ORGANIZER;CN="Ross%20Anderson":MAILTO:info@mctc.org.au
END:VEVENT
BEGIN:VEVENT
DTSTART;TZID=UTC:20200313T100000
DTEND;TZID=UTC:20200313T120000
DTSTAMP:20200228T072625
CREATED:20200121T215924Z
LAST-MODIFIED:20200121T215924Z
UID:1038-1584093600-1584100800@mctc.org.au
SUMMARY:Working Bee
DESCRIPTION:
URL:http://mctc.org.au/index.php/event/working-bee-20/
LOCATION:Maryborough Clay Target Club\, Baumgart Road\, Maryborough\, QLD\, 4650\, Australia
ORGANIZER;CN="Ross%20Anderson":MAILTO:info@mctc.org.au
END:VEVENT
BEGIN:VEVENT
DTSTART;TZID=UTC:20200313T130000
DTEND;TZID=UTC:20200313T160000
DTSTAMP:20200228T072625
CREATED:20200121T215702Z
LAST-MODIFIED:20200121T215702Z
UID:1035-1584104400-1584115200@mctc.org.au
SUMMARY:5 Stand Sporting Practice
DESCRIPTION:
URL:http://mctc.org.au/index.php/event/5-stand-sporting-practice-9/
LOCATION:Maryborough Clay Target Club\, Baumgart Road\, Maryborough\, QLD\, 4650\, Australia
ORGANIZER;CN="Ross%20Anderson":MAILTO:info@mctc.org.au
END:VEVENT
BEGIN:VEVENT
DTSTART;TZID=UTC:20200318T130000
DTEND;TZID=UTC:20200318T160000
DTSTAMP:20200228T072625
CREATED:20200121T234504Z
LAST-MODIFIED:20200121T234504Z
UID:1042-1584536400-1584547200@mctc.org.au
SUMMARY:Trap and 5 Stand Sporting Practice
DESCRIPTION:
URL:http://mctc.org.au/index.php/event/trap-and-5-stand-sporting-practice-31/
LOCATION:Maryborough Clay Target Club\, Baumgart Road\, Maryborough\, QLD\, 4650\, Australia
ORGANIZER;CN="Ross%20Anderson":MAILTO:info@mctc.org.au
END:VEVENT
BEGIN:VEVENT
DTSTART;TZID=UTC:20200321T100000
DTEND;TZID=UTC:20200321T120000
DTSTAMP:20200228T072625
CREATED:20200121T234744Z
LAST-MODIFIED:20200121T234744Z
UID:1046-1584784800-1584792000@mctc.org.au
SUMMARY:Working Bee
DESCRIPTION:
URL:http://mctc.org.au/index.php/event/working-bee-21/
LOCATION:Maryborough Clay Target Club\, Baumgart Road\, Maryborough\, QLD\, 4650\, Australia
ORGANIZER;CN="Ross%20Anderson":MAILTO:info@mctc.org.au
END:VEVENT
BEGIN:VEVENT
DTSTART;TZID=UTC:20200321T130000
DTEND;TZID=UTC:20200321T160000
DTSTAMP:20200228T072625
CREATED:20200121T235047Z
LAST-MODIFIED:20200121T235047Z
UID:1048-1584795600-1584806400@mctc.org.au
SUMMARY:Trap and 5 Stand Sporting Practice
DESCRIPTION:
URL:http://mctc.org.au/index.php/event/trap-and-5-stand-sporting-practice-33/
LOCATION:Maryborough Clay Target Club\, Baumgart Road\, Maryborough\, QLD\, 4650\, Australia
ORGANIZER;CN="Ross%20Anderson":MAILTO:info@mctc.org.au
END:VEVENT
BEGIN:VEVENT
DTSTART;TZID=UTC:20200322T100000
DTEND;TZID=UTC:20200322T160000
DTSTAMP:20200228T072625
CREATED:20200116T223457Z
LAST-MODIFIED:20200116T223457Z
UID:1024-1584871200-1584892800@mctc.org.au
SUMMARY:Club Trap Shoot
DESCRIPTION:Event 1: 25T Single Barrel Cash Divide \nEvent 2: 30T Double Barrel Championship \nEvent 3: 30T Pointscore Championship \nEvent 4: 25T Continental  \nGraded High Guns on Events 1-4 \n
URL:http://mctc.org.au/index.php/event/club-trap-shoot-5/
LOCATION:Maryborough Clay Target Club\, Baumgart Road\, Maryborough\, QLD\, 4650\, Australia
ORGANIZER;CN="Ross%20Anderson":MAILTO:info@mctc.org.au
END:VEVENT
BEGIN:VEVENT
DTSTART;TZID=UTC:20200328T130000
DTEND;TZID=UTC:20200328T160000
DTSTAMP:20200228T072625
CREATED:20200121T235151Z
LAST-MODIFIED:20200121T235151Z
UID:1050-1585400400-1585411200@mctc.org.au
SUMMARY:Trap and 5 Stand Sporting Practice
DESCRIPTION:
URL:http://mctc.org.au/index.php/event/trap-and-5-stand-sporting-practice-34/
LOCATION:Maryborough Clay Target Club\, Baumgart Road\, Maryborough\, QLD\, 4650\, Australia
ORGANIZER;CN="Ross%20Anderson":MAILTO:info@mctc.org.au
END:VEVENT
BEGIN:VEVENT
DTSTART;TZID=UTC:20200404T130000
DTEND;TZID=UTC:20200404T160000
DTSTAMP:20200228T072625
CREATED:20200121T235332Z
LAST-MODIFIED:20200121T235332Z
UID:1052-1586005200-1586016000@mctc.org.au
SUMMARY:Trap and 5 Stand Sporting Practice
DESCRIPTION:
URL:http://mctc.org.au/index.php/event/trap-and-5-stand-sporting-practice-35/
LOCATION:Maryborough Clay Target Club\, Baumgart Road\, Maryborough\, QLD\, 4650\, Australia
ORGANIZER;CN="Ross%20Anderson":MAILTO:info@mctc.org.au
END:VEVENT
BEGIN:VEVENT
DTSTART;TZID=UTC:20200411T130000
DTEND;TZID=UTC:20200411T130000
DTSTAMP:20200228T072625
CREATED:20200121T235524Z
LAST-MODIFIED:20200121T235524Z
UID:1054-1586610000-1586610000@mctc.org.au
SUMMARY:Trap and 5 Stand Sporting Practice
DESCRIPTION:
URL:http://mctc.org.au/index.php/event/trap-and-5-stand-sporting-practice-36/
LOCATION:Maryborough Clay Target Club\, Baumgart Road\, Maryborough\, QLD\, 4650\, Australia
ORGANIZER;CN="Ross%20Anderson":MAILTO:info@mctc.org.au
END:VEVENT
BEGIN:VEVENT
DTSTART;TZID=UTC:20200415T130000
DTEND;TZID=UTC:20200415T160000
DTSTAMP:20200228T072625
CREATED:20200121T235650Z
LAST-MODIFIED:20200121T235734Z
UID:1056-1586955600-1586966400@mctc.org.au
SUMMARY:Trap and 5 Stand Sporting Practice
DESCRIPTION:
URL:http://mctc.org.au/index.php/event/trap-and-5-stand-sporting-practice-37/
LOCATION:Maryborough Clay Target Club\, Baumgart Road\, Maryborough\, QLD\, 4650\, Australia
ORGANIZER;CN="Ross%20Anderson":MAILTO:info@mctc.org.au
END:VEVENT
BEGIN:VEVENT
DTSTART;TZID=UTC:20200418T130000
DTEND;TZID=UTC:20200418T130000
DTSTAMP:20200228T072625
CREATED:20200121T235856Z
LAST-MODIFIED:20200121T235856Z
UID:1058-1587214800-1587214800@mctc.org.au
SUMMARY:Trap and 5 Stand Sporting Practice
DESCRIPTION:
URL:http://mctc.org.au/index.php/event/trap-and-5-stand-sporting-practice-38/
LOCATION:Maryborough Clay Target Club\, Baumgart Road\, Maryborough\, QLD\, 4650\, Australia
ORGANIZER;CN="Ross%20Anderson":MAILTO:info@mctc.org.au
END:VEVENT
BEGIN:VEVENT
DTSTART;TZID=UTC:20200425T100000
DTEND;TZID=UTC:20200425T120000
DTSTAMP:20200228T072625
CREATED:20200122T000057Z
LAST-MODIFIED:20200122T000057Z
UID:1060-1587808800-1587816000@mctc.org.au
SUMMARY:Working Bee
DESCRIPTION:
URL:http://mctc.org.au/index.php/event/working-bee-22/
LOCATION:Maryborough Clay Target Club\, Baumgart Road\, Maryborough\, QLD\, 4650\, Australia
ORGANIZER;CN="Ross%20Anderson":MAILTO:info@mctc.org.au
END:VEVENT
BEGIN:VEVENT
DTSTART;TZID=UTC:20200425T130000
DTEND;TZID=UTC:20200425T160000
DTSTAMP:20200228T072625
CREATED:20200122T000215Z
LAST-MODIFIED:20200122T000215Z
UID:1062-1587819600-1587830400@mctc.org.au
SUMMARY:Trap and 5 Stand Sporting Practice
DESCRIPTION:
URL:http://mctc.org.au/index.php/event/trap-and-5-stand-sporting-practice-39/
LOCATION:Maryborough Clay Target Club\, Baumgart Road\, Maryborough\, QLD\, 4650\, Australia
ORGANIZER;CN="Ross%20Anderson":MAILTO:info@mctc.org.au
END:VEVENT
BEGIN:VEVENT
DTSTART;TZID=UTC:20200426T100000
DTEND;TZID=UTC:20200426T160000
DTSTAMP:20200228T072625
CREATED:20200116T223842Z
LAST-MODIFIED:20200116T223842Z
UID:1026-1587895200-1587916800@mctc.org.au
SUMMARY:Club Trap Shoot
DESCRIPTION:Event 1: 25T Double Barrel Cash Divide \nEvent 2: 50T Pointscore Championship \nEvent 3: 15 Pair Double Rise \nGraded High Guns on Events 1-3 \n  \n
URL:http://mctc.org.au/index.php/event/club-trap-shoot-6/
LOCATION:Maryborough Clay Target Club\, Baumgart Road\, Maryborough\, QLD\, 4650\, Australia
ORGANIZER;CN="Ross%20Anderson":MAILTO:info@mctc.org.au
END:VEVENT
BEGIN:VEVENT
DTSTART;TZID=UTC:20200502T130000
DTEND;TZID=UTC:20200502T160000
DTSTAMP:20200228T072625
CREATED:20200122T000511Z
LAST-MODIFIED:20200122T000511Z
UID:1064-1588424400-1588435200@mctc.org.au
SUMMARY:Trap and 5 Stand Sporting Practice
DESCRIPTION:
URL:http://mctc.org.au/index.php/event/trap-and-5-stand-sporting-practice-40/
LOCATION:Maryborough Clay Target Club\, Baumgart Road\, Maryborough\, QLD\, 4650\, Australia
ORGANIZER;CN="Ross%20Anderson":MAILTO:info@mctc.org.au
END:VEVENT
BEGIN:VEVENT
DTSTART;TZID=UTC:20200509T130000
DTEND;TZID=UTC:20200509T130000
DTSTAMP:20200228T072625
CREATED:20200122T000618Z
LAST-MODIFIED:20200122T000618Z
UID:1066-1589029200-1589029200@mctc.org.au
SUMMARY:Trap and 5 Stand Sporting Practice
DESCRIPTION:
URL:http://mctc.org.au/index.php/event/trap-and-5-stand-sporting-practice-41/
LOCATION:Maryborough Clay Target Club\, Baumgart Road\, Maryborough\, QLD\, 4650\, Australia
ORGANIZER;CN="Ross%20Anderson":MAILTO:info@mctc.org.au
END:VEVENT
BEGIN:VEVENT
DTSTART;TZID=UTC:20200513T130000
DTEND;TZID=UTC:20200513T130000
DTSTAMP:20200228T072625
CREATED:20200122T000742Z
LAST-MODIFIED:20200122T000742Z
UID:1068-1589374800-1589374800@mctc.org.au
SUMMARY:Trap and 5 Stand Sporting Practice
DESCRIPTION:
URL:http://mctc.org.au/index.php/event/trap-and-5-stand-sporting-practice-42/
LOCATION:Maryborough Clay Target Club\, Baumgart Road\, Maryborough\, QLD\, 4650\, Australia
ORGANIZER;CN="Ross%20Anderson":MAILTO:info@mctc.org.au
END:VEVENT
BEGIN:VEVENT
DTSTART;TZID=UTC:20200516T180000
DTEND;TZID=UTC:20200516T180000
DTSTAMP:20200228T072625
CREATED:20200122T001045Z
LAST-MODIFIED:20200122T001045Z
UID:1070-1589652000-1589652000@mctc.org.au
SUMMARY:Trap and 5 Stand Sporting Practice
DESCRIPTION:
URL:http://mctc.org.au/index.php/event/trap-and-5-stand-sporting-practice-43/
LOCATION:Maryborough Clay Target Club\, Baumgart Road\, Maryborough\, QLD\, 4650\, Australia
ORGANIZER;CN="Ross%20Anderson":MAILTO:info@mctc.org.au
END:VEVENT
BEGIN:VEVENT
DTSTART;TZID=UTC:20200522T100000
DTEND;TZID=UTC:20200522T100000
DTSTAMP:20200228T072625
CREATED:20200122T001944Z
LAST-MODIFIED:20200122T001944Z
UID:1074-1590141600-1590141600@mctc.org.au
SUMMARY:Working Bee
DESCRIPTION:
URL:http://mctc.org.au/index.php/event/working-bee-23/
LOCATION:Maryborough Clay Target Club\, Baumgart Road\, Maryborough\, QLD\, 4650\, Australia
ORGANIZER;CN="Ross%20Anderson":MAILTO:info@mctc.org.au
END:VEVENT
BEGIN:VEVENT
DTSTART;TZID=UTC:20200522T130000
DTEND;TZID=UTC:20200522T130000
DTSTAMP:20200228T072625
CREATED:20200122T001849Z
LAST-MODIFIED:20200122T001849Z
UID:1072-1590152400-1590152400@mctc.org.au
SUMMARY:Trap and 5 Stand Sporting Practice
DESCRIPTION:
URL:http://mctc.org.au/index.php/event/trap-and-5-stand-sporting-practice-44/
LOCATION:Maryborough Clay Target Club\, Baumgart Road\, Maryborough\, QLD\, 4650\, Australia
ORGANIZER;CN="Ross%20Anderson":MAILTO:info@mctc.org.au
END:VEVENT
BEGIN:VEVENT
DTSTART;TZID=UTC:20200523T093000
DTEND;TZID=UTC:20200523T170000
DTSTAMP:20200228T072625
CREATED:20200116T224322Z
LAST-MODIFIED:20200116T224322Z
UID:1029-1590226200-1590253200@mctc.org.au
SUMMARY:Club 2 Day Open Trap Shoot
DESCRIPTION:Event 1: 30T Double Barrel Cash Divide \nEvent 2: 30T Single Barrel Championship \nEvent 3: 50T Double Barrel Championship \n
URL:http://mctc.org.au/index.php/event/club-2-day-open-trap-shoot/
LOCATION:Maryborough Clay Target Club\, Baumgart Road\, Maryborough\, QLD\, 4650\, Australia
ORGANIZER;CN="Ross%20Anderson":MAILTO:info@mctc.org.au
END:VEVENT
BEGIN:VEVENT
DTSTART;TZID=UTC:20200524T093000
DTEND;TZID=UTC:20200524T170000
DTSTAMP:20200228T072625
CREATED:20200116T224639Z
LAST-MODIFIED:20200116T224639Z
UID:1031-1590312600-1590339600@mctc.org.au
SUMMARY:Club 2 Day Open Trap Shoot
DESCRIPTION:Event 4: 30T Pointscore Championship \nEvent 5: 30T Continental Championship \nEvent 6: 30T Champion of Champion shot off 18m \nHigh Guns over Events 1-6 \n
URL:http://mctc.org.au/index.php/event/club-2-day-open-trap-shoot-2/
LOCATION:Maryborough Clay Target Club\, Baumgart Road\, Maryborough\, QLD\, 4650\, Australia
ORGANIZER;CN="Ross%20Anderson":MAILTO:info@mctc.org.au
END:VEVENT
BEGIN:VEVENT
DTSTART;TZID=UTC:20200530T130000
DTEND;TZID=UTC:20200530T130000
DTSTAMP:20200228T072625
CREATED:20200122T002109Z
LAST-MODIFIED:20200122T002109Z
UID:1076-1590843600-1590843600@mctc.org.au
SUMMARY:Trap and 5 Stand Sporting Practice
DESCRIPTION:
URL:http://mctc.org.au/index.php/event/trap-and-5-stand-sporting-practice-45/
LOCATION:Maryborough Clay Target Club\, Baumgart Road\, Maryborough\, QLD\, 4650\, Australia
ORGANIZER;CN="Ross%20Anderson":MAILTO:info@mctc.org.au
END:VEVENT
BEGIN:VEVENT
DTSTART;TZID=UTC:20200606T130000
DTEND;TZID=UTC:20200606T130000
DTSTAMP:20200228T072625
CREATED:20200122T002219Z
LAST-MODIFIED:20200122T002219Z
UID:1078-1591448400-1591448400@mctc.org.au
SUMMARY:Trap and 5 Stand Sporting Practice
DESCRIPTION:
URL:http://mctc.org.au/index.php/event/trap-and-5-stand-sporting-practice-46/
LOCATION:Maryborough Clay Target Club\, Baumgart Road\, Maryborough\, QLD\, 4650\, Australia
ORGANIZER;CN="Ross%20Anderson":MAILTO:info@mctc.org.au
END:VEVENT
BEGIN:VEVENT
DTSTART;TZID=UTC:20200613T130000
DTEND;TZID=UTC:20200613T130000
DTSTAMP:20200228T072625
CREATED:20200122T002556Z
LAST-MODIFIED:20200122T002556Z
UID:1080-1592053200-1592053200@mctc.org.au
SUMMARY:Trap and 5 Stand Sporting Practice
DESCRIPTION:
URL:http://mctc.org.au/index.php/event/trap-and-5-stand-sporting-practice-47/
LOCATION:Maryborough Clay Target Club\, Baumgart Road\, Maryborough\, QLD\, 4650\, Australia
ORGANIZER;CN="Ross%20Anderson":MAILTO:info@mctc.org.au
END:VEVENT
BEGIN:VEVENT
DTSTART;TZID=UTC:20200617T130000
DTEND;TZID=UTC:20200617T130000
DTSTAMP:20200228T072625
CREATED:20200122T002723Z
LAST-MODIFIED:20200122T002723Z
UID:1082-1592398800-1592398800@mctc.org.au
SUMMARY:Trap and 5 Stand Sporting Practice
DESCRIPTION:
URL:http://mctc.org.au/index.php/event/trap-and-5-stand-sporting-practice-48/
LOCATION:Maryborough Clay Target Club\, Baumgart Road\, Maryborough\, QLD\, 4650\, Australia
ORGANIZER;CN="Ross%20Anderson":MAILTO:info@mctc.org.au
END:VEVENT
BEGIN:VEVENT
DTSTART;TZID=UTC:20200620T130000
DTEND;TZID=UTC:20200620T130000
DTSTAMP:20200228T072625
CREATED:20200122T002824Z
LAST-MODIFIED:20200122T002824Z
UID:1084-1592658000-1592658000@mctc.org.au
SUMMARY:Trap and 5 Stand Sporting Practice
DESCRIPTION:
URL:http://mctc.org.au/index.php/event/trap-and-5-stand-sporting-practice-49/
LOCATION:Maryborough Clay Target Club\, Baumgart Road\, Maryborough\, QLD\, 4650\, Australia
ORGANIZER;CN="Ross%20Anderson":MAILTO:info@mctc.org.au
END:VEVENT
END:VCALENDAR